BEGIN:VCALENDAR
VERSION:2.0
PRODID:-//San Fernando Valley Audubon Society - ECPv6.15.20//NONSGML v1.0//EN
CALSCALE:GREGORIAN
METHOD:PUBLISH
X-ORIGINAL-URL:https://sfvaudubon.org
X-WR-CALDESC:Events for San Fernando Valley Audubon Society
REFRESH-INTERVAL;VALUE=DURATION:PT1H
X-Robots-Tag:noindex
X-PUBLISHED-TTL:PT1H
BEGIN:VTIMEZONE
TZID:America/Los_Angeles
BEGIN:DAYLIGHT
TZOFFSETFROM:-0800
TZOFFSETTO:-0700
TZNAME:PDT
DTSTART:20240310T100000
END:DAYLIGHT
BEGIN:STANDARD
TZOFFSETFROM:-0700
TZOFFSETTO:-0800
TZNAME:PST
DTSTART:20241103T090000
END:STANDARD
BEGIN:DAYLIGHT
TZOFFSETFROM:-0800
TZOFFSETTO:-0700
TZNAME:PDT
DTSTART:20250309T100000
END:DAYLIGHT
BEGIN:STANDARD
TZOFFSETFROM:-0700
TZOFFSETTO:-0800
TZNAME:PST
DTSTART:20251102T090000
END:STANDARD
BEGIN:DAYLIGHT
TZOFFSETFROM:-0800
TZOFFSETTO:-0700
TZNAME:PDT
DTSTART:20260308T100000
END:DAYLIGHT
BEGIN:STANDARD
TZOFFSETFROM:-0700
TZOFFSETTO:-0800
TZNAME:PST
DTSTART:20261101T090000
END:STANDARD
BEGIN:DAYLIGHT
TZOFFSETFROM:-0800
TZOFFSETTO:-0700
TZNAME:PDT
DTSTART:20270314T100000
END:DAYLIGHT
BEGIN:STANDARD
TZOFFSETFROM:-0700
TZOFFSETTO:-0800
TZNAME:PST
DTSTART:20271107T090000
END:STANDARD
END:VTIMEZONE
BEGIN:VEVENT
DTSTART;TZID=America/Los_Angeles:20260411T080000
DTEND;TZID=America/Los_Angeles:20260411T100000
DTSTAMP:20260425T174746
CREATED:20260323T180440Z
LAST-MODIFIED:20260323T182232Z
UID:10001512-1775894400-1775901600@sfvaudubon.org
SUMMARY:Birdathon 2026: Lake Balboa
DESCRIPTION:Start Time: 8:00 AM\nEstimated Species: 40\nWalk Leader: Alexander deBarros\nContact: alexanderdebarros@yahoo.com \n\nLooking for more info on this year’s Birdathon? Please check the links below! \nBirdathon 2026 Official Announcement \nMake a Pledge or Donation
URL:https://sfvaudubon.org/event/birdathon-2026-lake-balboa/
LOCATION:Lake Balboa/Beilenson Park\, 6300 Balboa Blvd\,\, Van Nuys\, CA\, 91406\, United States
ATTACH;FMTTYPE=image/jpeg:https://sfvaudubon.org/wp-content/uploads/2026/03/image.jpg
END:VEVENT
BEGIN:VEVENT
DTSTART;TZID=America/Los_Angeles:20250320T100000
DTEND;TZID=America/Los_Angeles:20250320T114500
DTSTAMP:20260425T174746
CREATED:20250311T035329Z
LAST-MODIFIED:20250311T035329Z
UID:10000518-1742464800-1742471100@sfvaudubon.org
SUMMARY:A Bird Sit with Nature Journaling (Rescheduled)
DESCRIPTION:A Bird Sit is an alternative approach to birding. Instead of extended walking and standing\, it involves finding a comfortable spot in nature to sit\, slow down\, be in the moment\, and notice details and behavior patterns. \nA Bird Sit is not list-driven. It is not always trying to get the next bird. It is a way of expanding your awareness of and connection to birds (and all of nature!)  And recording your Bird Sit experiences in a journal using words\, numbers\, and/or pictures can be very rewarding! \nIf you would like to mindfully connect with birds and all of nature\, join us at the picnic tables near the bathrooms. What to bring:  a cushion or a comfortable chair\, a beverage/snack\, binoculars\, a journal\, and something to write/draw with. \nThis event is limited to 10 people. To reserve a spot\, contact Teri Carnesciali at teri.carnesciali@sfvaudubon.org. \nIn the event of rain\, sit will be moved to the 3rd Thursday. If you’re unsure whether a sit is taking place\, please contact Teri to confirm.
URL:https://sfvaudubon.org/event/a-bird-sit-with-nature-journaling-rescheduled/
LOCATION:Lake Balboa/Beilenson Park\, 6300 Balboa Blvd\,\, Van Nuys\, CA\, 91406\, United States
ATTACH;FMTTYPE=image/jpeg:https://sfvaudubon.org/wp-content/uploads/2024/09/OMelvenyScenic-1024x768-1.jpg
END:VEVENT
BEGIN:VEVENT
DTSTART;TZID=America/Los_Angeles:20250220T100000
DTEND;TZID=America/Los_Angeles:20250220T114500
DTSTAMP:20260425T174746
CREATED:20250211T094406Z
LAST-MODIFIED:20250211T094614Z
UID:10000515-1740045600-1740051900@sfvaudubon.org
SUMMARY:A Bird Sit with Nature Journaling
DESCRIPTION:A Bird Sit is an alternative approach to birding. Instead of extended walking and standing\, it involves finding a comfortable spot in nature to sit\, slow down\, be in the moment\, and notice details and behavior patterns. \nA Bird Sit is not list-driven. It is not always trying to get the next bird. It is a way of expanding your awareness of and connection to birds (and all of nature!)  And recording your Bird Sit experiences in a journal using words\, numbers\, and/or pictures can be very rewarding! \nIf you would like to mindfully connect with birds and all of nature\, join us at the picnic tables near the bathrooms. What to bring:  a cushion or a comfortable chair\, a beverage/snack\, binoculars\, a journal\, and something to write/draw with. \nThis event is limited to 10 people. To reserve a spot\, contact Teri Carnesciali at teri.carnesciali@sfvaudubon.org. \nIn the event of rain\, sit will be moved to the 3rd Thursday. If you’re unsure whether a sit is taking place\, please contact Teri to confirm.
URL:https://sfvaudubon.org/event/a-bird-sit-with-nature-journaling-2/
LOCATION:Lake Balboa/Beilenson Park\, 6300 Balboa Blvd\,\, Van Nuys\, CA\, 91406\, United States
ATTACH;FMTTYPE=image/jpeg:https://sfvaudubon.org/wp-content/uploads/2024/09/OMelvenyScenic-1024x768-1.jpg
END:VEVENT
END:VCALENDAR