BEGIN:VCALENDAR
VERSION:2.0
PRODID:-//San Fernando Valley Audubon Society - ECPv6.15.20//NONSGML v1.0//EN
CALSCALE:GREGORIAN
METHOD:PUBLISH
X-ORIGINAL-URL:https://sfvaudubon.org
X-WR-CALDESC:Events for San Fernando Valley Audubon Society
REFRESH-INTERVAL;VALUE=DURATION:PT1H
X-Robots-Tag:noindex
X-PUBLISHED-TTL:PT1H
BEGIN:VTIMEZONE
TZID:America/Los_Angeles
BEGIN:DAYLIGHT
TZOFFSETFROM:-0800
TZOFFSETTO:-0700
TZNAME:PDT
DTSTART:20240310T100000
END:DAYLIGHT
BEGIN:STANDARD
TZOFFSETFROM:-0700
TZOFFSETTO:-0800
TZNAME:PST
DTSTART:20241103T090000
END:STANDARD
BEGIN:DAYLIGHT
TZOFFSETFROM:-0800
TZOFFSETTO:-0700
TZNAME:PDT
DTSTART:20250309T100000
END:DAYLIGHT
BEGIN:STANDARD
TZOFFSETFROM:-0700
TZOFFSETTO:-0800
TZNAME:PST
DTSTART:20251102T090000
END:STANDARD
BEGIN:DAYLIGHT
TZOFFSETFROM:-0800
TZOFFSETTO:-0700
TZNAME:PDT
DTSTART:20260308T100000
END:DAYLIGHT
BEGIN:STANDARD
TZOFFSETFROM:-0700
TZOFFSETTO:-0800
TZNAME:PST
DTSTART:20261101T090000
END:STANDARD
END:VTIMEZONE
BEGIN:VEVENT
DTSTART;TZID=America/Los_Angeles:20250406T080000
DTEND;TZID=America/Los_Angeles:20250406T110000
DTSTAMP:20260424T053905
CREATED:20240925T083021Z
LAST-MODIFIED:20240925T083021Z
UID:10000376-1743926400-1743937200@sfvaudubon.org
SUMMARY:Sepulveda Basin Bird Walk
DESCRIPTION:The first Sunday of every month brings San Fernando Valley Audubon Society’s iconic Sepulveda Basin Bird Outing. Over 300 avian species have been reported to eBird along the route of this approximate 2 mile tour\, from the huge American White Pelican wintering in the Wildlife Lake to the tiniest of hummingbirds there year round. It is common to see over 60 species of birds on a three hour outing beginning at 8 am. \nThe Sepulveda Basin is a  2\,100+ acre flood control basin\, with the Los Angeles River and several tributaries coursing through it. Various portions are occupied by golf courses\, sports fields and facilities\, agriculture\, military and sanitation facilities\, and two wildlife areas. The SFVAS outing traverses the wildlife area east of Woodley Avenue through riparian habitat\, a portion of which is carefully nurtured to promote native flora. The pathway winds between the Wildlife Lake and Haskell Creek\, both of which are supplied with reclaimed water year round. If conditions permit\, the outing extends south of Burbank Boulevard to the Sepulveda Dam and the Los Angeles River. \nThe area has recovered remarkably from a devastating fire in September 2020. Though most of the large trees were lost leaving skeletal remains (and homes for cavity nesters)\, new sycamores and cottonwoods are quickly emerging. \n\n		\n		\n			\n				\n			\n			\n				\n			\n		\n \nThere is ample free parking in the “amphitheater” area of Woodley Park\, where the walk begins. Most of the tour is flat and on hard packed decomposed granite or dirt pathways and is wheelchair accessible with a small detour required near the river. \nThe outing will be canceled in the event of rain or flooding (it is\, after all\, a flood basin). If you’re unsure whether a walk is taking place\, please contact your walk leaders at 747-237-3720.
URL:https://sfvaudubon.org/event/sepulveda-basin-bird-walk/2025-04-06/
LOCATION:Sepulveda Basin Wildlife Area\, 6350 Woodley Ave\, Van Nuys\, CA\, 91436\, United States
ATTACH;FMTTYPE=image/jpeg:https://sfvaudubon.org/wp-content/uploads/2024/09/Great-Blue-Heron-spl-bsn-4.14.16-536-x-382.jpg
END:VEVENT
BEGIN:VEVENT
DTSTART;TZID=America/Los_Angeles:20250410T100000
DTEND;TZID=America/Los_Angeles:20250410T114500
DTSTAMP:20260424T053905
CREATED:20240925T075149Z
LAST-MODIFIED:20240925T075149Z
UID:10000316-1744279200-1744285500@sfvaudubon.org
SUMMARY:A Bird Sit with Nature Journaling
DESCRIPTION:A Bird Sit is an alternative approach to birding. Instead of extended walking and standing\, it involves finding a comfortable spot in nature to sit\, slow down\, be in the moment\, and notice details and behavior patterns. \nA Bird Sit is not list-driven. It is not always trying to get the next bird. It is a way of expanding your awareness of and connection to birds (and all of nature!)  And recording your Bird Sit experiences in a journal using words\, numbers\, and/or pictures can be very rewarding! \nIf you would like to mindfully connect with birds and all of nature\, join us at the picnic tables near the bathrooms. What to bring:  a cushion or a comfortable chair\, a beverage/snack\, binoculars\, a journal\, and something to write/draw with. \nThis event is limited to 10 people. To reserve a spot\, contact Teri Carnesciali at teri.carnesciali@sfvaudubon.org. \nIn the event of rain\, sit will be moved to the 3rd Thursday. If you’re unsure whether a sit is taking place\, please contact Teri to confirm.
URL:https://sfvaudubon.org/event/a-bird-sit-with-nature-journaling/2025-04-10/
LOCATION:O’Melveny Park\, 17300 Sesnon Blvd.\, Granada Hills\, CA\, 91344\, United States
ATTACH;FMTTYPE=image/jpeg:https://sfvaudubon.org/wp-content/uploads/2024/09/OMelvenyScenic-1024x768-1.jpg
END:VEVENT
BEGIN:VEVENT
DTSTART;TZID=America/Los_Angeles:20250415T090000
DTEND;TZID=America/Los_Angeles:20250415T110000
DTSTAMP:20260424T053905
CREATED:20240924T114108Z
LAST-MODIFIED:20240924T114108Z
UID:10000101-1744707600-1744714800@sfvaudubon.org
SUMMARY:O’Melveny Park Bird Walk
DESCRIPTION:O’Melveny Park and the trails which begin there into Bee Canyon provide an interesting contrast. The park is home to an orange grove and trails through sycamores and alders. The Bee Canyon trail is chaparral and riparian area set between high rock walls. The last rest area for birds going north over the Santa Susana Mountains\, this is an excellent migrant trap. \nThe park is named after Henry W. O’Melveny\, in 1927 one of the original members of the California State Parks Commission. Originally called C.J. Ranch\, O’Melveny Park was purchased in 1941 by attorney John O’Melveny of O’Melveny & Myers and later acquired by The Trust for Public Land and turned into a park. \nAt 675 acres\, O’Melveny Park is the second largest public park in Los Angeles after Griffith Park. O’Melveny Park is managed by the City of Los Angeles Department of Recreation and Parks. \nThe park is unstaffed. It provides large grassy areas\, picnic tables\, and is known for its extensive hiking and horse trails and the stunning views they lead to. Near the entrance is a grove of citrus trees. \nAccessibility at O’Melveny Park\n\n		\n		\n			\n				\n			\n				\n				Parking\n				\n			\n				\n			\n				\n				Restrooms\n				\n			\n				\n			\n				\n				Benches (Shaded in Spring/Summer)\n				\n		\n \nThe outing is approximately two-thirds accessible\, with some travel on manicured lawns. Midway through\, we transition to hiking up hillside trails. Those who prefer not to hike can relax on shaded benches or conclude their outing at that point. Upon our return\, we take a different route back to the starting point. \nDirections: Take the 118/Ronald Reagan Freeway and exit at Balboa Blvd. Turn north\, driving two miles to Sesnon\, turn left going west 0.6 miles\, turn right at park entrance. Meet in the parking lot. \nEvents may be canceled due to inclement weather. If you’re unsure whether a walk is taking place\, please contact your walk leader at 747-237-3720.
URL:https://sfvaudubon.org/event/omelveny-park-birdwalk/2025-04-15/
LOCATION:O’Melveny Park\, 17300 Sesnon Blvd.\, Granada Hills\, CA\, 91344\, United States
ATTACH;FMTTYPE=image/jpeg:https://sfvaudubon.org/wp-content/uploads/2024/09/OMelvenyScenic-1024x768-1.jpg
END:VEVENT
BEGIN:VEVENT
DTSTART;TZID=America/Los_Angeles:20250415T090000
DTEND;TZID=America/Los_Angeles:20250415T110000
DTSTAMP:20260424T053905
CREATED:20250326T075822Z
LAST-MODIFIED:20250326T093741Z
UID:10000520-1744707600-1744714800@sfvaudubon.org
SUMMARY:Birdathon 2025: O’Melveny Park
DESCRIPTION:Start Time: 9 AM\nEstimated Species: 30\nWalk Leader: Alexander deBarros\nContact: alexanderdebarros@yahoo.com \n\nLooking for more info on this year’s Birdathon? Please check the links below! \nBirdathon 2025  Official Announcement \nMake a Pledge or Donation
URL:https://sfvaudubon.org/event/birdathon-2025-omelveny-park/
LOCATION:O’Melveny Park\, 17300 Sesnon Blvd.\, Granada Hills\, CA\, 91344\, United States
ATTACH;FMTTYPE=image/jpeg:https://sfvaudubon.org/wp-content/uploads/2025/03/a-bird-standing-on-a-rock-ai-generated-content-ma.jpeg
END:VEVENT
BEGIN:VEVENT
DTSTART;TZID=America/Los_Angeles:20250420T080000
DTEND;TZID=America/Los_Angeles:20250420T113000
DTSTAMP:20260424T053905
CREATED:20240925T073912Z
LAST-MODIFIED:20260114T051347Z
UID:10000211-1745136000-1745148600@sfvaudubon.org
SUMMARY:Malibu Creek State Park
DESCRIPTION:Kathy and Dave \nParticipants in this outing will enjoy a leisurely stroll along Malibu Creek\, its oak and sycamore woodlands set amidst a stunning backdrop of chaparral-covered slopes and rocky buttes. Birds\, deer\, bobcat\, butterflies\, reptiles and\, in season\, a bewildering array of wildflowers can be found in this jewel of the Santa Monica Mountains\, now mostly recovered from the devastating Woolsey fire.  Our focus will be on finding and identifying many of the over 200 species of birds that have been recorded here.  You can expect to see thirty to fifty species during these three to four hour walks\, depending on the season.  Common resident species include Acorn Woodpecker\, Oak Titmouse\, California Quail\, and White-breasted Nuthatch\, and spring brings us Black-headed Grosbeak\, Blue Grosbeak\, and Lazuli Buntings. Meet at the main lot\, which is the second (lower) day-use parking lot per the Google map.  Entrance to the park is on the west side of Las Virgenes Road\, just south of Mulholland Hwy. \nEntrance fee is $12 per car. Click location below for more about MSCP and an Accessibility Note. \nWalks will be cancelled in the event of rain. If you’re unsure whether a walk is taking place\, please contact your walk leaders at 747-237-3720. \n\n 
URL:https://sfvaudubon.org/event/malibu-creek-state-park/2025-04-20/
LOCATION:Malibu Creek State Park\, 1925 Las Virgenes Rd\, Calabasas\, CA\, 91302\, United States
ATTACH;FMTTYPE=image/jpeg:https://sfvaudubon.org/wp-content/uploads/2024/09/malibuCreek-1024x680-1.jpg
END:VEVENT
BEGIN:VEVENT
DTSTART;TZID=America/Los_Angeles:20250424T190000
DTEND;TZID=America/Los_Angeles:20250424T203000
DTSTAMP:20260424T053905
CREATED:20250223T064641Z
LAST-MODIFIED:20250306T072312Z
UID:10000517-1745521200-1745526600@sfvaudubon.org
SUMMARY:Zoom Event: Morning Rush Hour on the Feathered Highway
DESCRIPTION:Lauren Hill\, co-founder of The Bear Divide Banding Station\, will provide a presentation on migration studies\, banding training\, and collaborative projects that serve as a hub for comment\, outreach\, and avian conservation. \nEvery spring\, millions of birds migrate along the Pacific Flyway from their wintering grounds to their breeding grounds.  Few places highlight the spectacle of migration in western North America quite like Bear Divide.  It is a low-elevation pass in the San Gabriel Mountains of Los Angeles County\, and provides an unequal opportunity to study a vast number of migratory landbirds. \n\n		\n		\n			\n				\n			\n			\n				\n			\n			\n				\n			\n			\n				\n			\n		\n \nLauren Hill is a local avian biologist and current graduate student in the M.S. Environmental Biology program at California State University Los Angeles\, where she conducts research in the Wood Lab of Avian and Urban Ecology.  Her primary focus is avian migration ecology\, and her thesis investigates the migratory population. \nIf you plan to attend via Zoom\, please enter your info and we’ll send you a link prior to the event.\nIf you’ve signed up for previous events\, feel free to skip this step – you’re already on our list!\n\n    First Name\n    \n    Last Name\n    \nEmail address: \n		\n\n \n\n\n	\n Leave this field empty if you're human:
URL:https://sfvaudubon.org/event/zoom-event-morning-rush-on-the-feathered-highway/
LOCATION:CA
ATTACH;FMTTYPE=image/jpeg:https://sfvaudubon.org/wp-content/uploads/2025/02/da866970-9815-461a-8416-37b6f1b7245f-1.jpg
END:VEVENT
BEGIN:VEVENT
DTSTART;TZID=America/Los_Angeles:20250427T090000
DTEND;TZID=America/Los_Angeles:20250427T110000
DTSTAMP:20260424T053905
CREATED:20241219T214807Z
LAST-MODIFIED:20250417T154020Z
UID:10000445-1745744400-1745751600@sfvaudubon.org
SUMMARY:Young Birders Walk
DESCRIPTION:Join the Audubon Society’s SFV Chapter Eagle Eyes Young Birders Club! \nAre you curious about the world of birds? Do you love exploring nature and discovering feathered friends in your own backyard or local park? The Eagle Eyes Young Birders Club is the perfect place for you to connect with nature and learn about the fascinating world of birds! \nWhat We Offer:  \n\nFun Outdoor Adventures: Join us for bird watching hikes and local outings that help you learn to identify birds in suburban habitats.\nNature Journaling: This activity allows each participant to share their experience using drawing tools. Leaders will provide instruction and guidance.\nInteractive Learning: Our experienced leader will guide you in spotting birds and understanding their behaviors\, all while sharing tips on how to protect local wildlife.\nCommunity & Friendships: Meet other children who share your love for nature and make new friends through fun\, bird-themed events and challenges!\n\nWhy Birding?  \nBird watching is more than just a hobby—it’s a way to connect with the environment\, learn about conservation\, and develop a deeper appreciation for the natural world around you. Plus\, it’s a fantastic way to get outside\, explore your neighborhood\, and enjoy the beauty of suburban wildlife! \nWho Can Join?  \nThe Eagle Eyes Young Birders Club is open to all children aged 6-12 who are excited to discover the amazing variety of birds living right in their own backyards and local parks. No prior experience needed—just bring your curiosity! All children must be accompanied by an adult for the duration of the event. \nReady to Explore?  \nBecome part of a fun\, supportive community where your passion for birds can soar. Sign up today and start your adventure with the Audubon Society’s Eagle Eyes Young Birders Club! \nOutings will occur on the last Sunday of every month except for July and August. Locations will vary and will be announced in advance. We will have binoculars available to borrow\, and journals and art supplies available to keep for children who sign up. \nFor more information\, contact Paula at the SFV Audubon Chapter at 747.237.3720. \nLearn. Explore. Protect.  \nLet’s discover the wonders of birds together!
URL:https://sfvaudubon.org/event/young-birders-walk-5/
LOCATION:O’Melveny Park\, 17300 Sesnon Blvd.\, Granada Hills\, CA\, 91344\, United States
ATTACH;FMTTYPE=image/jpeg:https://sfvaudubon.org/wp-content/uploads/2024/12/image001-scaled.jpg
END:VEVENT
END:VCALENDAR