BEGIN:VCALENDAR
VERSION:2.0
PRODID:-//San Fernando Valley Audubon Society - ECPv6.15.20//NONSGML v1.0//EN
CALSCALE:GREGORIAN
METHOD:PUBLISH
X-ORIGINAL-URL:https://sfvaudubon.org
X-WR-CALDESC:Events for San Fernando Valley Audubon Society
REFRESH-INTERVAL;VALUE=DURATION:PT1H
X-Robots-Tag:noindex
X-PUBLISHED-TTL:PT1H
BEGIN:VTIMEZONE
TZID:America/Los_Angeles
BEGIN:DAYLIGHT
TZOFFSETFROM:-0800
TZOFFSETTO:-0700
TZNAME:PDT
DTSTART:20250309T100000
END:DAYLIGHT
BEGIN:STANDARD
TZOFFSETFROM:-0700
TZOFFSETTO:-0800
TZNAME:PST
DTSTART:20251102T090000
END:STANDARD
BEGIN:DAYLIGHT
TZOFFSETFROM:-0800
TZOFFSETTO:-0700
TZNAME:PDT
DTSTART:20260308T100000
END:DAYLIGHT
BEGIN:STANDARD
TZOFFSETFROM:-0700
TZOFFSETTO:-0800
TZNAME:PST
DTSTART:20261101T090000
END:STANDARD
BEGIN:DAYLIGHT
TZOFFSETFROM:-0800
TZOFFSETTO:-0700
TZNAME:PDT
DTSTART:20270314T100000
END:DAYLIGHT
BEGIN:STANDARD
TZOFFSETFROM:-0700
TZOFFSETTO:-0800
TZNAME:PST
DTSTART:20271107T090000
END:STANDARD
END:VTIMEZONE
BEGIN:VEVENT
DTSTART;TZID=America/Los_Angeles:20260218T170000
DTEND;TZID=America/Los_Angeles:20260218T203000
DTSTAMP:20260421T211117
CREATED:20260203T193534Z
LAST-MODIFIED:20260203T193534Z
UID:10001230-1771434000-1771446600@sfvaudubon.org
SUMMARY:BIRDS & BEER with SFVAS - New Time!
DESCRIPTION:See Great Horned Owls\, Great and Snowy Egrets\, and American White Pelicans! Get together at Best Ball Bar- Woodley Lakes Golf Course. Sign up HERE. \n \nWe will meet at the first parking lot at the entrance to the Sepulveda Basin Wildlife Reserve in Woodley Park at 5:00PM\, directions are below. First we will make a brief excursion to the Wildlife lake to hopefully view our amazing American White Pelicans as well as Snowy and Great Egrets arriving at the island to roost. Round trip distance is about 1 mile. We will then return to the parking lot area to hunt for Great Horned Owls. The owls have nested in that area as long as most of us can remember. We will depart for the Best Ball Bar – Woodley Lakes Golf Course at about 6:15 and meet there for appetizers and no-host bar at 6:30. \nWe are asking people to RSVP for the walk and Best Ball Bar – Woodley Lakes Golf Course so we can make the appropriate arrangements and also contact you in the event of changes! Significant rain will cancel birding portion\, will re-survey social hour. Donations are welcome! \nDirections: Woodley Park: 6350 Woodley Avenue\, Encino CA 91436 Driving on Woodley Ave. north from Burbank or south from Victory Blvd.\, go ½ mile and turn east at the sign for the Japanese Garden. Stay right past the Japanese Garden\, park in the first lot you encounter.\nBest Ball Bar at Woodley Lakes Golf Course: 6331 Woodley Avenue\, Van Nuys\, CA 91406. You need to turn west on “Lake Balboa” – not sure there is a sign there. It is 2 drives south of the Orange line.\nEquipment and Clothing: Wear sturdy shoes\, and otherwise dress appropriately for the weather. You may want to bring a flashlight. \nMore Information: Pat.Bates@sfvaudubon.org or San Fernando Valley Audubon at 747-237-3720. \nMap: https://www.google.com/maps/d/u/0/edit?mid=1KzyqYPe7ktULWQ3A6OI8g8OAO-5QEBg&usp=sharing
URL:https://sfvaudubon.org/event/birds-beer-with-sfvas-new-time/
CATEGORIES:Audubon Bird Walk,Event
ATTACH;FMTTYPE=image/jpeg:https://sfvaudubon.org/wp-content/uploads/2026/02/bids-beer-2026-02-18-16-TO-9-scaled.jpg
END:VEVENT
END:VCALENDAR